BEGIN:VCALENDAR
VERSION:2.0
PRODID:-//Medford Brewing Company - ECPv6.15.20//NONSGML v1.0//EN
CALSCALE:GREGORIAN
METHOD:PUBLISH
X-WR-CALNAME:Medford Brewing Company
X-ORIGINAL-URL:https://medfordbrew.com
X-WR-CALDESC:Events for Medford Brewing Company
REFRESH-INTERVAL;VALUE=DURATION:PT1H
X-Robots-Tag:noindex
X-PUBLISHED-TTL:PT1H
BEGIN:VTIMEZONE
TZID:America/New_York
BEGIN:DAYLIGHT
TZOFFSETFROM:-0500
TZOFFSETTO:-0400
TZNAME:EDT
DTSTART:20250309T070000
END:DAYLIGHT
BEGIN:STANDARD
TZOFFSETFROM:-0400
TZOFFSETTO:-0500
TZNAME:EST
DTSTART:20251102T060000
END:STANDARD
BEGIN:DAYLIGHT
TZOFFSETFROM:-0500
TZOFFSETTO:-0400
TZNAME:EDT
DTSTART:20260308T070000
END:DAYLIGHT
BEGIN:STANDARD
TZOFFSETFROM:-0400
TZOFFSETTO:-0500
TZNAME:EST
DTSTART:20261101T060000
END:STANDARD
BEGIN:DAYLIGHT
TZOFFSETFROM:-0500
TZOFFSETTO:-0400
TZNAME:EDT
DTSTART:20270314T070000
END:DAYLIGHT
BEGIN:STANDARD
TZOFFSETFROM:-0400
TZOFFSETTO:-0500
TZNAME:EST
DTSTART:20271107T060000
END:STANDARD
END:VTIMEZONE
BEGIN:VEVENT
DTSTART;TZID=America/New_York:20260604T190000
DTEND;TZID=America/New_York:20260903T220000
DTSTAMP:20260423T164120
CREATED:20250529T170415Z
LAST-MODIFIED:20260323T153401Z
UID:3460-1780599600-1788472800@medfordbrew.com
SUMMARY:Singer Songwriter Night: Melodies on Tap
DESCRIPTION:Melodies on Tap is our monthly open Mic Night hosted by local musicians\, Zion Rodman & Christian Colegrove. 21+ \nMore info and sign ups on the event web site: HERE
URL:https://medfordbrew.com/events/singer-songwriter-night-melodies-on-tap/
LOCATION:Medford Brewing Company\, 30 Harvard Ave.\, Medford\, 02155\, United States
CATEGORIES:Open Mic Night
ATTACH;FMTTYPE=image/jpeg:https://medfordbrew.com/wp-content/uploads/2025/05/Melodies.jpg
END:VEVENT
BEGIN:VEVENT
DTSTART;TZID=America/New_York:20260617T170000
DTEND;TZID=America/New_York:20260617T213000
DTSTAMP:20260423T164120
CREATED:20250915T160253Z
LAST-MODIFIED:20260417T173955Z
UID:3619-1781715600-1781731800@medfordbrew.com
SUMMARY:WEDNESDAY WAX
DESCRIPTION:Grab your records for the next installment of WEDNESDAY WAX! Put your name on the sign-up sheet\, spin two tracks when it’s your turn. Answer “Hey\, where’d you get that record?!?” etc.\, then sign up again and again.\nTurntable will be set up at five and go until closing.\nFree to bar patrons\, 21+ after 6pm
URL:https://medfordbrew.com/events/wednesday-wax-2/
LOCATION:Medford Brewing Company\, 30 Harvard Ave.\, Medford\, 02155\, United States
CATEGORIES:Music
ATTACH;FMTTYPE=image/png:https://medfordbrew.com/wp-content/uploads/2024/12/wednesdaywaxsq.png
END:VEVENT
BEGIN:VEVENT
DTSTART;TZID=America/New_York:20260619T170000
DTEND;TZID=America/New_York:20260619T200000
DTSTAMP:20260423T164120
CREATED:20250313T145801Z
LAST-MODIFIED:20260323T153810Z
UID:3257-1781888400-1781899200@medfordbrew.com
SUMMARY:Reunion BBQ
DESCRIPTION:The Best BBQ in The South End comes to Medford! \nWe’re excited to have  Reunion BBQ popping back up at Medford Brewing!!
URL:https://medfordbrew.com/events/reunion-bbq-pop-up-2/
LOCATION:Medford Brewing Company\, 30 Harvard Ave.\, Medford\, 02155\, United States
CATEGORIES:Food Pop Up
ATTACH;FMTTYPE=image/jpeg:https://medfordbrew.com/wp-content/uploads/2025/08/RBB.jpg
END:VEVENT
BEGIN:VEVENT
DTSTART;TZID=America/New_York:20260620T120000
DTEND;TZID=America/New_York:20260620T180000
DTSTAMP:20260423T164120
CREATED:20260417T181134Z
LAST-MODIFIED:20260417T181134Z
UID:4086-1781956800-1781978400@medfordbrew.com
SUMMARY:Medford Open Studios Location
DESCRIPTION:
URL:https://medfordbrew.com/events/medford-open-studios-location/
LOCATION:Medford Brewing Company\, 30 Harvard Ave.\, Medford\, 02155\, United States
ATTACH;FMTTYPE=image/jpeg:https://medfordbrew.com/wp-content/uploads/2026/04/OS.jpg
END:VEVENT
BEGIN:VEVENT
DTSTART;TZID=America/New_York:20260702T190000
DTEND;TZID=America/New_York:20260702T220000
DTSTAMP:20260423T164120
CREATED:20260204T183215Z
LAST-MODIFIED:20260407T140627Z
UID:3949-1783018800-1783029600@medfordbrew.com
SUMMARY:Singer Songwriter Night: Melodies on Tap
DESCRIPTION:Melodies on Tap is our monthly open Mic Night hosted by local musicians\, Zion Rodman & Christian Colegrove. 21+ \nMore info and sign ups on the event web site: HERE
URL:https://medfordbrew.com/events/singer-songwriter-night-melodies-on-tap-3/
LOCATION:Medford Brewing Company\, 30 Harvard Ave.\, Medford\, 02155\, United States
CATEGORIES:Open Mic Night
ATTACH;FMTTYPE=image/jpeg:https://medfordbrew.com/wp-content/uploads/2025/05/Melodies.jpg
END:VEVENT
BEGIN:VEVENT
DTSTART;TZID=America/New_York:20260709T190000
DTEND;TZID=America/New_York:20260709T220000
DTSTAMP:20260423T164120
CREATED:20260206T170000Z
LAST-MODIFIED:20260417T152507Z
UID:3958-1783623600-1783634400@medfordbrew.com
SUMMARY:Pub Night! Presented by 2ToneTim
DESCRIPTION:What started as a Birthday party celebration for one of our music-loving buddies has morphed into a monthly musical event!! \nJoin us Every 2nd Thursday from 7-10 pm while 2Tone Tim Presents: Pub Night\, a night of beer\, Ska\, Punk\, Soul\, Reggae\, New Wave\, BritPop music either by a DJ or a band. \n21+ Free
URL:https://medfordbrew.com/events/pub-night-presented-by-2tonetim-2/
LOCATION:Medford Brewing Company\, 30 Harvard Ave.\, Medford\, 02155\, United States
CATEGORIES:Music
ATTACH;FMTTYPE=image/jpeg:https://medfordbrew.com/wp-content/uploads/2025/03/21.jpg
END:VEVENT
BEGIN:VEVENT
DTSTART;TZID=America/New_York:20260718T170000
DTEND;TZID=America/New_York:20260718T200000
DTSTAMP:20260423T164120
CREATED:20260115T174833Z
LAST-MODIFIED:20260407T135843Z
UID:3918-1784394000-1784404800@medfordbrew.com
SUMMARY:Revelry N'awlins Cuisine
DESCRIPTION:Revelry Food Truck delivers authentic New Orleans cuisine to Boston\, filling a unique culinary gap. They offer classic N’awlins dishes like po-boys\, jambalaya\, and red beans and rice\, all made with traditional recipes and ingredients. Bringing a taste of home to Louisiana transplants and a new flavor experience to Bostonians\, we invite you to “Laissez les bon temps rouler!”
URL:https://medfordbrew.com/events/revelry-nawlins-cuisine/
CATEGORIES:Food Truck
ATTACH;FMTTYPE=image/jpeg:https://medfordbrew.com/wp-content/uploads/2025/03/Rev.jpg
END:VEVENT
BEGIN:VEVENT
DTSTART;TZID=America/New_York:20260731T170000
DTEND;TZID=America/New_York:20260731T200000
DTSTAMP:20260423T164120
CREATED:20260204T181210Z
LAST-MODIFIED:20260407T135749Z
UID:3936-1785517200-1785528000@medfordbrew.com
SUMMARY:Babci's Pierogi
DESCRIPTION:Babci’s is back! Come enjoy their hand-made pierogi’s and some delicious brews!
URL:https://medfordbrew.com/events/babcis-pierogi/
LOCATION:Medford Brewing Company\, 30 Harvard Ave.\, Medford\, 02155\, United States
CATEGORIES:Food Pop Up
ATTACH;FMTTYPE=image/jpeg:https://medfordbrew.com/wp-content/uploads/2025/10/BP.jpg
END:VEVENT
BEGIN:VEVENT
DTSTART;TZID=America/New_York:20260808T130000
DTEND;TZID=America/New_York:20260808T170000
DTSTAMP:20260423T164120
CREATED:20260204T183512Z
LAST-MODIFIED:20260417T153537Z
UID:3953-1786194000-1786208400@medfordbrew.com
SUMMARY:Revelry N'awlins Cuisine
DESCRIPTION:Revelry Food Truck delivers authentic New Orleans cuisine to Boston\, filling a unique culinary gap. They offer classic N’awlins dishes like po-boys\, jambalaya\, and red beans and rice\, all made with traditional recipes and ingredients. Bringing a taste of home to Louisiana transplants and a new flavor experience to Bostonians\, we invite you to “Laissez les bon temps rouler!”
URL:https://medfordbrew.com/events/revelry-nawlins-cuisine-2/
LOCATION:Medford Brewing Company\, 30 Harvard Ave.\, Medford\, 02155\, United States
CATEGORIES:Food Truck
ATTACH;FMTTYPE=image/jpeg:https://medfordbrew.com/wp-content/uploads/2025/03/Rev.jpg
END:VEVENT
BEGIN:VEVENT
DTSTART;TZID=America/New_York:20260814T160000
DTEND;TZID=America/New_York:20260814T200000
DTSTAMP:20260423T164120
CREATED:20250815T155603Z
LAST-MODIFIED:20260417T153425Z
UID:3566-1786723200-1786737600@medfordbrew.com
SUMMARY:Cousins Main Lobster
DESCRIPTION:
URL:https://medfordbrew.com/events/cousins-main-lobster/
LOCATION:Medford Brewing Company\, 30 Harvard Ave.\, Medford\, 02155\, United States
CATEGORIES:Food Truck
ATTACH;FMTTYPE=image/jpeg:https://medfordbrew.com/wp-content/uploads/2025/03/CL.jpg
END:VEVENT
BEGIN:VEVENT
DTSTART;TZID=America/New_York:20260828T170000
DTEND;TZID=America/New_York:20260828T200000
DTSTAMP:20260423T164120
CREATED:20260322T153132Z
LAST-MODIFIED:20260417T153631Z
UID:4045-1787936400-1787947200@medfordbrew.com
SUMMARY:Reunion BBQ
DESCRIPTION:The Best BBQ in The South End comes to Medford! We’re excited to have Reunion BBQ popping back up at Medford Brewing!!
URL:https://medfordbrew.com/events/reunion-bbq-2/
LOCATION:Medford Brewing Company\, 30 Harvard Ave.\, Medford\, 02155\, United States
CATEGORIES:Food Pop Up
ATTACH;FMTTYPE=image/jpeg:https://medfordbrew.com/wp-content/uploads/2025/08/RBB.jpg
END:VEVENT
END:VCALENDAR