BEGIN:VCALENDAR
VERSION:2.0
PRODID:-//Medford Brewing Company - ECPv6.15.20//NONSGML v1.0//EN
CALSCALE:GREGORIAN
METHOD:PUBLISH
X-WR-CALNAME:Medford Brewing Company
X-ORIGINAL-URL:https://medfordbrew.com
X-WR-CALDESC:Events for Medford Brewing Company
REFRESH-INTERVAL;VALUE=DURATION:PT1H
X-Robots-Tag:noindex
X-PUBLISHED-TTL:PT1H
BEGIN:VTIMEZONE
TZID:America/New_York
BEGIN:DAYLIGHT
TZOFFSETFROM:-0500
TZOFFSETTO:-0400
TZNAME:EDT
DTSTART:20250309T070000
END:DAYLIGHT
BEGIN:STANDARD
TZOFFSETFROM:-0400
TZOFFSETTO:-0500
TZNAME:EST
DTSTART:20251102T060000
END:STANDARD
BEGIN:DAYLIGHT
TZOFFSETFROM:-0500
TZOFFSETTO:-0400
TZNAME:EDT
DTSTART:20260308T070000
END:DAYLIGHT
BEGIN:STANDARD
TZOFFSETFROM:-0400
TZOFFSETTO:-0500
TZNAME:EST
DTSTART:20261101T060000
END:STANDARD
BEGIN:DAYLIGHT
TZOFFSETFROM:-0500
TZOFFSETTO:-0400
TZNAME:EDT
DTSTART:20270314T070000
END:DAYLIGHT
BEGIN:STANDARD
TZOFFSETFROM:-0400
TZOFFSETTO:-0500
TZNAME:EST
DTSTART:20271107T060000
END:STANDARD
END:VTIMEZONE
BEGIN:VEVENT
DTSTART;TZID=America/New_York:20260502T130000
DTEND;TZID=America/New_York:20260502T170000
DTSTAMP:20260423T153055
CREATED:20251217T171517Z
LAST-MODIFIED:20260404T150555Z
UID:3832-1777726800-1777741200@medfordbrew.com
SUMMARY:Paisani
DESCRIPTION:We’re excited to welcome Paisani back to Medford Brewing!!\n\nCheck them out here: https://paisanifoodtruck.com
URL:https://medfordbrew.com/events/paisani/
LOCATION:Medford Brewing Company\, 30 Harvard Ave.\, Medford\, 02155\, United States
CATEGORIES:Food Truck
ATTACH;FMTTYPE=image/jpeg:https://medfordbrew.com/wp-content/uploads/2025/06/Paisani.jpg
END:VEVENT
BEGIN:VEVENT
DTSTART;TZID=America/New_York:20260501T170000
DTEND;TZID=America/New_York:20260501T200000
DTSTAMP:20260423T153055
CREATED:20260102T174940Z
LAST-MODIFIED:20260302T170646Z
UID:3870-1777654800-1777665600@medfordbrew.com
SUMMARY:Tandoor & Curry Pop-Up!
DESCRIPTION:We’re very excited to welcome Tandoor & Curry back to Medford Brewing Company!  Stop on by from  5-8pm to delight in their Indian Food with a Modern Twist
URL:https://medfordbrew.com/events/tandoor-curry-pop-up/
LOCATION:Medford Brewing Company\, 30 Harvard Ave.\, Medford\, 02155\, United States
ATTACH;FMTTYPE=image/png:https://medfordbrew.com/wp-content/uploads/2025/10/Company-Logo.png
END:VEVENT
BEGIN:VEVENT
DTSTART;TZID=America/New_York:20260428T190000
DTEND;TZID=America/New_York:20260428T210000
DTSTAMP:20260423T153055
CREATED:20231012T152911Z
LAST-MODIFIED:20260302T170550Z
UID:2089-1777402800-1777410000@medfordbrew.com
SUMMARY:Trivia Night
DESCRIPTION:Grab some friends and join us for Trivia Night! \nTeams of 2-6 will compete in a traditional 6 round Trivia Quiz. Prizes will be awarded to the top scoring teams. \nTrivia will start at 7pm so plan to get here early enough to snag a table! \nYou must be 21+  to attend
URL:https://medfordbrew.com/events/trivia-night-2/
LOCATION:Medford Brewing Company\, 30 Harvard Ave.\, Medford\, 02155\, United States
CATEGORIES:Trivia
ATTACH;FMTTYPE=image/jpeg:https://medfordbrew.com/wp-content/uploads/2025/03/trivia.jpeg
END:VEVENT
BEGIN:VEVENT
DTSTART;TZID=America/New_York:20260426T110000
DTEND;TZID=America/New_York:20260426T120000
DTSTAMP:20260423T153055
CREATED:20230907T152150Z
LAST-MODIFIED:20260302T170528Z
UID:2011-1777201200-1777204800@medfordbrew.com
SUMMARY:Sunday Run!
DESCRIPTION:NEW RUNNERS ALWAYS WELCOME –  JUST SHOW UP! \nALL LEVELS OF RUNNING/PACES ENCOURAGED \nThe Plan:  \n\nMeet at 11am in front of the brewery\nCoats and bags may be left inside\nChoose from 3\, 5\, or 7-mile loops (or do your own)\nTaproom opens at noon with cold beer waiting for you at the finish!\n\n*Sunday run is organized by the Kier Byrnes Freedom Runners \n 
URL:https://medfordbrew.com/events/sunday-run-5/
LOCATION:Medford Brewing Company\, 30 Harvard Ave.\, Medford\, 02155\, United States
CATEGORIES:Sunday Run
ATTACH;FMTTYPE=image/jpeg:https://medfordbrew.com/wp-content/uploads/2023/09/run.jpg
END:VEVENT
BEGIN:VEVENT
DTSTART;TZID=America/New_York:20260421T190000
DTEND;TZID=America/New_York:20260421T210000
DTSTAMP:20260423T153055
CREATED:20250512T163202Z
LAST-MODIFIED:20260302T170330Z
UID:3417-1776798000-1776805200@medfordbrew.com
SUMMARY:Trivia Night
DESCRIPTION:Grab some friends and join us for Trivia Night! Teams of 2-6 will compete in a traditional 6 round Trivia Quiz. \nPrizes will be awarded to the top scoring teams. \nTrivia will start at 7pm so plan to get here early enough to snag a table! \nYou must be 21+  to attend
URL:https://medfordbrew.com/events/trivia-night-9/
LOCATION:Medford Brewing Company\, 30 Harvard Ave.\, Medford\, 02155\, United States
CATEGORIES:Trivia
ATTACH;FMTTYPE=image/jpeg:https://medfordbrew.com/wp-content/uploads/2025/03/trivia.jpeg
END:VEVENT
BEGIN:VEVENT
DTSTART;TZID=America/New_York:20260419T110000
DTEND;TZID=America/New_York:20260419T120000
DTSTAMP:20260423T153055
CREATED:20250313T151703Z
LAST-MODIFIED:20260302T170144Z
UID:3284-1776596400-1776600000@medfordbrew.com
SUMMARY:Sunday Run
DESCRIPTION:NEW RUNNERS ALWAYS WELCOME –  JUST SHOW UP! \nALL LEVELS OF RUNNING/PACES ENCOURAGED \nThe Plan:  \n\nMeet at 11am in front of the brewery\nCoats and bags may be left inside\nChoose from 3\, 5\, or 7-mile loops (or do your own)\nTaproom opens at noon with cold beer waiting for you at the finish!\n\n*Sunday run is organized by the Kier Byrnes Freedom Runners
URL:https://medfordbrew.com/events/sunday-run-10/
LOCATION:Medford Brewing Company\, 30 Harvard Ave.\, Medford\, 02155\, United States
CATEGORIES:Sunday Run
ATTACH;FMTTYPE=image/jpeg:https://medfordbrew.com/wp-content/uploads/2023/09/run.jpg
END:VEVENT
BEGIN:VEVENT
DTSTART;TZID=America/New_York:20260417T170000
DTEND;TZID=America/New_York:20260417T200000
DTSTAMP:20260423T153055
CREATED:20260302T174145Z
LAST-MODIFIED:20260302T174145Z
UID:3997-1776445200-1776456000@medfordbrew.com
SUMMARY:Marcel The French Croque
DESCRIPTION:Marcel introduces authentic French croque-monsieur to Boston. Founded by a French-American entrepreneur\, it features the iconic Parisian ham\, cheese\, and bechamel hot sandwich\, perfect with craft beer and good company.
URL:https://medfordbrew.com/events/marcel-the-french-croque-2/
LOCATION:Medford Brewing Company\, 30 Harvard Ave.\, Medford\, 02155\, United States
ATTACH;FMTTYPE=image/png:https://medfordbrew.com/wp-content/uploads/2026/03/Logo-.png
END:VEVENT
BEGIN:VEVENT
DTSTART;TZID=America/New_York:20260412T140000
DTEND;TZID=America/New_York:20260412T170000
DTSTAMP:20260423T153055
CREATED:20250116T161415Z
LAST-MODIFIED:20260326T151921Z
UID:3083-1776002400-1776013200@medfordbrew.com
SUMMARY:Books and Brews!
DESCRIPTION:Book & Brew pairings with Book Ends\, Winchester!
URL:https://medfordbrew.com/events/books-and-brews/
LOCATION:Medford Brewing Company\, 30 Harvard Ave.\, Medford\, 02155\, United States
CATEGORIES:Book Fair
ATTACH;FMTTYPE=image/png:https://medfordbrew.com/wp-content/uploads/2025/01/Books-Brews-Medford-April-2026.png
END:VEVENT
BEGIN:VEVENT
DTSTART;TZID=America/New_York:20260327T170000
DTEND;TZID=America/New_York:20260327T200000
DTSTAMP:20260423T153055
CREATED:20251103T164932Z
LAST-MODIFIED:20260311T144016Z
UID:3704-1774630800-1774641600@medfordbrew.com
SUMMARY:Dos Manos Kitchen
DESCRIPTION:Dos Manos Kitchen crafts authentic Salvadoran cuisine\, specializing in pupusas that combine traditional techniques with innovative fillings\, including fresh vegetable combinations and richly flavored\, slow-cooked meats. Pupusas are naturally gluten free!
URL:https://medfordbrew.com/events/dos-manos-kitchen-pop-up/
LOCATION:Medford Brewing Company\, 30 Harvard Ave.\, Medford\, 02155\, United States
CATEGORIES:Food Pop Up
ATTACH;FMTTYPE=image/png:https://medfordbrew.com/wp-content/uploads/2025/11/Dos-Manos-Logo.png
END:VEVENT
END:VCALENDAR