BEGIN:VCALENDAR
VERSION:2.0
PRODID:-//Medford Brewing Company - ECPv6.15.20//NONSGML v1.0//EN
CALSCALE:GREGORIAN
METHOD:PUBLISH
X-ORIGINAL-URL:https://medfordbrew.com
X-WR-CALDESC:Events for Medford Brewing Company
REFRESH-INTERVAL;VALUE=DURATION:PT1H
X-Robots-Tag:noindex
X-PUBLISHED-TTL:PT1H
BEGIN:VTIMEZONE
TZID:America/New_York
BEGIN:DAYLIGHT
TZOFFSETFROM:-0500
TZOFFSETTO:-0400
TZNAME:EDT
DTSTART:20250309T070000
END:DAYLIGHT
BEGIN:STANDARD
TZOFFSETFROM:-0400
TZOFFSETTO:-0500
TZNAME:EST
DTSTART:20251102T060000
END:STANDARD
BEGIN:DAYLIGHT
TZOFFSETFROM:-0500
TZOFFSETTO:-0400
TZNAME:EDT
DTSTART:20260308T070000
END:DAYLIGHT
BEGIN:STANDARD
TZOFFSETFROM:-0400
TZOFFSETTO:-0500
TZNAME:EST
DTSTART:20261101T060000
END:STANDARD
BEGIN:DAYLIGHT
TZOFFSETFROM:-0500
TZOFFSETTO:-0400
TZNAME:EDT
DTSTART:20270314T070000
END:DAYLIGHT
BEGIN:STANDARD
TZOFFSETFROM:-0400
TZOFFSETTO:-0500
TZNAME:EST
DTSTART:20271107T060000
END:STANDARD
END:VTIMEZONE
BEGIN:VEVENT
DTSTART;TZID=America/New_York:20260426T110000
DTEND;TZID=America/New_York:20260426T120000
DTSTAMP:20260423T133319
CREATED:20230907T152150Z
LAST-MODIFIED:20260302T170528Z
UID:2011-1777201200-1777204800@medfordbrew.com
SUMMARY:Sunday Run!
DESCRIPTION:NEW RUNNERS ALWAYS WELCOME –  JUST SHOW UP! \nALL LEVELS OF RUNNING/PACES ENCOURAGED \nThe Plan:  \n\nMeet at 11am in front of the brewery\nCoats and bags may be left inside\nChoose from 3\, 5\, or 7-mile loops (or do your own)\nTaproom opens at noon with cold beer waiting for you at the finish!\n\n*Sunday run is organized by the Kier Byrnes Freedom Runners \n 
URL:https://medfordbrew.com/events/sunday-run-5/
LOCATION:Medford Brewing Company\, 30 Harvard Ave.\, Medford\, 02155\, United States
CATEGORIES:Sunday Run
ATTACH;FMTTYPE=image/jpeg:https://medfordbrew.com/wp-content/uploads/2023/09/run.jpg
END:VEVENT
BEGIN:VEVENT
DTSTART;TZID=America/New_York:20260503T110000
DTEND;TZID=America/New_York:20260503T120000
DTSTAMP:20260423T133319
CREATED:20230903T144330Z
LAST-MODIFIED:20260302T170755Z
UID:1975-1777806000-1777809600@medfordbrew.com
SUMMARY:Sunday Run!
DESCRIPTION:NEW RUNNERS ALWAYS WELCOME –  JUST SHOW UP! \nALL LEVELS OF RUNNING/PACES ENCOURAGED \nThe Plan:  \n\nMeet at 11am in front of the brewery\nCoats and bags may be left inside\nChoose from 3\, 5\, or 7-mile loops (or do your own)\nTaproom opens at noon with cold beer waiting for you at the finish!\n\n*Sunday run is organized by the Kier Byrnes Freedom Runners
URL:https://medfordbrew.com/events/sunday-run-3/
LOCATION:Medford Brewing Company\, 30 Harvard Ave.\, Medford\, 02155\, United States
CATEGORIES:Sunday Run
ATTACH;FMTTYPE=image/jpeg:https://medfordbrew.com/wp-content/uploads/2023/09/run.jpg
END:VEVENT
BEGIN:VEVENT
DTSTART;TZID=America/New_York:20260510T110000
DTEND;TZID=America/New_York:20260510T120000
DTSTAMP:20260423T133319
CREATED:20240227T174343Z
LAST-MODIFIED:20260310T160127Z
UID:2443-1778410800-1778414400@medfordbrew.com
SUMMARY:Sunday Run!
DESCRIPTION:NEW RUNNERS ALWAYS WELCOME –  JUST SHOW UP! \nALL LEVELS OF RUNNING/PACES ENCOURAGED \nThe Plan:  \n\nMeet at 11am in front of the brewery\nCoats and bags may be left inside\nChoose from 3\, 5\, or 7-mile loops (or do your own)\nTaproom opens at noon with cold beer waiting for you at the finish!\n\n*Sunday run is organized by the Kier Byrnes Freedom Runners
URL:https://medfordbrew.com/events/sunday-run-4/
LOCATION:Medford Brewing Company\, 30 Harvard Ave.\, Medford\, 02155\, United States
CATEGORIES:Sunday Run
ATTACH;FMTTYPE=image/jpeg:https://medfordbrew.com/wp-content/uploads/2023/09/run.jpg
END:VEVENT
BEGIN:VEVENT
DTSTART;TZID=America/New_York:20260517T110000
DTEND;TZID=America/New_York:20260517T120000
DTSTAMP:20260423T133319
CREATED:20230422T134746Z
LAST-MODIFIED:20260316T163020Z
UID:1686-1779015600-1779019200@medfordbrew.com
SUMMARY:Sunday Run!
DESCRIPTION:NEW RUNNERS ALWAYS WELCOME –  JUST SHOW UP! \nALL LEVELS OF RUNNING/PACES ENCOURAGED \nThe Plan:  \n\nMeet at 11am in front of the brewery\nCoats and bags may be left inside\nChoose from 3\, 5\, or 7-mile loops (or do your own)\nTaproom opens at noon with cold beer waiting for you at the finish!\n\n*Sunday run is organized by the Kier Byrnes Freedom Runners
URL:https://medfordbrew.com/events/sunday-run-2/
LOCATION:Medford Brewing Company\, 30 Harvard Ave.\, Medford\, 02155\, United States
CATEGORIES:Sunday Run
ATTACH;FMTTYPE=image/jpeg:https://medfordbrew.com/wp-content/uploads/2023/09/run.jpg
END:VEVENT
BEGIN:VEVENT
DTSTART;TZID=America/New_York:20260524T110000
DTEND;TZID=America/New_York:20260524T120000
DTSTAMP:20260423T133319
CREATED:20240227T174208Z
LAST-MODIFIED:20260323T152228Z
UID:2440-1779620400-1779624000@medfordbrew.com
SUMMARY:Sunday Run!
DESCRIPTION:NEW RUNNERS ALWAYS WELCOME –  JUST SHOW UP! \nALL LEVELS OF RUNNING/PACES ENCOURAGED \nThe Plan:  \n\nMeet at 11am in front of the brewery\nCoats and bags may be left inside\nChoose from 3\, 5\, or 7-mile loops (or do your own)\nTaproom opens at noon with cold beer waiting for you at the finish!\n\n*Sunday run is organized by the Kier Byrnes Freedom Runners
URL:https://medfordbrew.com/events/sunday-run/
LOCATION:Medford Brewing Company\, 30 Harvard Ave.\, Medford\, 02155\, United States
CATEGORIES:Sunday Run
ATTACH;FMTTYPE=image/jpeg:https://medfordbrew.com/wp-content/uploads/2023/09/run.jpg
END:VEVENT
BEGIN:VEVENT
DTSTART;TZID=America/New_York:20260531T110000
DTEND;TZID=America/New_York:20260531T120000
DTSTAMP:20260423T133319
CREATED:20250313T150119Z
LAST-MODIFIED:20260407T140319Z
UID:3263-1780225200-1780228800@medfordbrew.com
SUMMARY:Sunday Run
DESCRIPTION:NEW RUNNERS ALWAYS WELCOME –  JUST SHOW UP! \nALL LEVELS OF RUNNING/PACES ENCOURAGED \nThe Plan:  \n\nMeet at 11am in front of the brewery\nCoats and bags may be left inside\nChoose from 3\, 5\, or 7-mile loops (or do your own)\nTaproom opens at noon with cold beer waiting for you at the finish!\n\n*Sunday run is organized by the Kier Byrnes Freedom Runners
URL:https://medfordbrew.com/events/sunday-run-6/
LOCATION:Medford Brewing Company\, 30 Harvard Ave.\, Medford\, 02155\, United States
CATEGORIES:Sunday Run
ATTACH;FMTTYPE=image/jpeg:https://medfordbrew.com/wp-content/uploads/2023/09/run.jpg
END:VEVENT
BEGIN:VEVENT
DTSTART;TZID=America/New_York:20260607T110000
DTEND;TZID=America/New_York:20260607T120000
DTSTAMP:20260423T133319
CREATED:20250313T151114Z
LAST-MODIFIED:20260407T140758Z
UID:3272-1780830000-1780833600@medfordbrew.com
SUMMARY:Sunday Run
DESCRIPTION:NEW RUNNERS ALWAYS WELCOME –  JUST SHOW UP! \nALL LEVELS OF RUNNING/PACES ENCOURAGED \nThe Plan:  \n\nMeet at 11am in front of the brewery\nCoats and bags may be left inside\nChoose from 3\, 5\, or 7-mile loops (or do your own)\nTaproom opens at noon with cold beer waiting for you at the finish!\n\n*Sunday run is organized by the Kier Byrnes Freedom Runners
URL:https://medfordbrew.com/events/sunday-run-8/
LOCATION:Medford Brewing Company\, 30 Harvard Ave.\, Medford\, 02155\, United States
CATEGORIES:Sunday Run
ATTACH;FMTTYPE=image/jpeg:https://medfordbrew.com/wp-content/uploads/2023/09/run.jpg
END:VEVENT
BEGIN:VEVENT
DTSTART;TZID=America/New_York:20260614T110000
DTEND;TZID=America/New_York:20260614T120000
DTSTAMP:20260423T133319
CREATED:20250313T151539Z
LAST-MODIFIED:20260417T152406Z
UID:3281-1781434800-1781438400@medfordbrew.com
SUMMARY:Sunday Run
DESCRIPTION:NEW RUNNERS ALWAYS WELCOME –  JUST SHOW UP! \nALL LEVELS OF RUNNING/PACES ENCOURAGED \nThe Plan:  \n\nMeet at 11am in front of the brewery\nCoats and bags may be left inside\nChoose from 3\, 5\, or 7-mile loops (or do your own)\nTaproom opens at noon with cold beer waiting for you at the finish!\n\n*Sunday run is organized by the Kier Byrnes Freedom Runners
URL:https://medfordbrew.com/events/sunday-run-9/
LOCATION:Medford Brewing Company\, 30 Harvard Ave.\, Medford\, 02155\, United States
CATEGORIES:Sunday Run
ATTACH;FMTTYPE=image/jpeg:https://medfordbrew.com/wp-content/uploads/2023/09/run.jpg
END:VEVENT
END:VCALENDAR