BEGIN:VCALENDAR
VERSION:2.0
PRODID:-//Medford Brewing Company - ECPv6.15.20//NONSGML v1.0//EN
CALSCALE:GREGORIAN
METHOD:PUBLISH
X-WR-CALNAME:Medford Brewing Company
X-ORIGINAL-URL:https://medfordbrew.com
X-WR-CALDESC:Events for Medford Brewing Company
REFRESH-INTERVAL;VALUE=DURATION:PT1H
X-Robots-Tag:noindex
X-PUBLISHED-TTL:PT1H
BEGIN:VTIMEZONE
TZID:America/New_York
BEGIN:DAYLIGHT
TZOFFSETFROM:-0500
TZOFFSETTO:-0400
TZNAME:EDT
DTSTART:20250309T070000
END:DAYLIGHT
BEGIN:STANDARD
TZOFFSETFROM:-0400
TZOFFSETTO:-0500
TZNAME:EST
DTSTART:20251102T060000
END:STANDARD
BEGIN:DAYLIGHT
TZOFFSETFROM:-0500
TZOFFSETTO:-0400
TZNAME:EDT
DTSTART:20260308T070000
END:DAYLIGHT
BEGIN:STANDARD
TZOFFSETFROM:-0400
TZOFFSETTO:-0500
TZNAME:EST
DTSTART:20261101T060000
END:STANDARD
BEGIN:DAYLIGHT
TZOFFSETFROM:-0500
TZOFFSETTO:-0400
TZNAME:EDT
DTSTART:20270314T070000
END:DAYLIGHT
BEGIN:STANDARD
TZOFFSETFROM:-0400
TZOFFSETTO:-0500
TZNAME:EST
DTSTART:20271107T060000
END:STANDARD
END:VTIMEZONE
BEGIN:VEVENT
DTSTART;TZID=America/New_York:20260605T160000
DTEND;TZID=America/New_York:20260605T200000
DTSTAMP:20260423T181932
CREATED:20260323T153646Z
LAST-MODIFIED:20260323T153646Z
UID:4052-1780675200-1780689600@medfordbrew.com
SUMMARY:Cousins Main Lobster
DESCRIPTION:
URL:https://medfordbrew.com/events/cousins-main-lobster-2/
LOCATION:Medford Brewing Company\, 30 Harvard Ave.\, Medford\, 02155\, United States
CATEGORIES:Food Truck
ATTACH;FMTTYPE=image/jpeg:https://medfordbrew.com/wp-content/uploads/2025/03/CL.jpg
END:VEVENT
END:VCALENDAR