BEGIN:VCALENDAR
VERSION:2.0
PRODID:-//Medford Brewing Company - ECPv6.15.20//NONSGML v1.0//EN
CALSCALE:GREGORIAN
METHOD:PUBLISH
X-ORIGINAL-URL:https://medfordbrew.com
X-WR-CALDESC:Events for Medford Brewing Company
REFRESH-INTERVAL;VALUE=DURATION:PT1H
X-Robots-Tag:noindex
X-PUBLISHED-TTL:PT1H
BEGIN:VTIMEZONE
TZID:America/New_York
BEGIN:DAYLIGHT
TZOFFSETFROM:-0500
TZOFFSETTO:-0400
TZNAME:EDT
DTSTART:20250309T070000
END:DAYLIGHT
BEGIN:STANDARD
TZOFFSETFROM:-0400
TZOFFSETTO:-0500
TZNAME:EST
DTSTART:20251102T060000
END:STANDARD
BEGIN:DAYLIGHT
TZOFFSETFROM:-0500
TZOFFSETTO:-0400
TZNAME:EDT
DTSTART:20260308T070000
END:DAYLIGHT
BEGIN:STANDARD
TZOFFSETFROM:-0400
TZOFFSETTO:-0500
TZNAME:EST
DTSTART:20261101T060000
END:STANDARD
BEGIN:DAYLIGHT
TZOFFSETFROM:-0500
TZOFFSETTO:-0400
TZNAME:EDT
DTSTART:20270314T070000
END:DAYLIGHT
BEGIN:STANDARD
TZOFFSETFROM:-0400
TZOFFSETTO:-0500
TZNAME:EST
DTSTART:20271107T060000
END:STANDARD
END:VTIMEZONE
BEGIN:VEVENT
DTSTART;TZID=America/New_York:20260508T170000
DTEND;TZID=America/New_York:20260508T200000
DTSTAMP:20260423T121124
CREATED:20260310T155902Z
LAST-MODIFIED:20260310T155902Z
UID:4017-1778259600-1778270400@medfordbrew.com
SUMMARY:Reunion BBQ!
DESCRIPTION:The Best BBQ in The South End comes to Medford! We’re excited to have Reunion BBQ popping back up at Medford Brewing!!
URL:https://medfordbrew.com/events/reunion-bbq/
LOCATION:Medford Brewing Company\, 30 Harvard Ave.\, Medford\, 02155\, United States
CATEGORIES:Food Pop Up
ATTACH;FMTTYPE=image/png:https://medfordbrew.com/wp-content/uploads/2023/05/08.png
END:VEVENT
BEGIN:VEVENT
DTSTART;TZID=America/New_York:20260529T170000
DTEND;TZID=America/New_York:20260529T200000
DTSTAMP:20260423T121124
CREATED:20260317T154849Z
LAST-MODIFIED:20260317T154849Z
UID:4034-1780074000-1780084800@medfordbrew.com
SUMMARY:Birria Gordita Tacos
DESCRIPTION:Everyone’s favorite Gordita is back with her delicious Birria Tacos & sides!
URL:https://medfordbrew.com/events/birria-gordita-tacos/
LOCATION:Medford Brewing Company\, 30 Harvard Ave.\, Medford\, 02155\, United States
CATEGORIES:Food Pop Up
ATTACH;FMTTYPE=image/png:https://medfordbrew.com/wp-content/uploads/2026/03/Screenshot-2026-03-17-at-11.37.07-AM.png
END:VEVENT
BEGIN:VEVENT
DTSTART;TZID=America/New_York:20260613T180000
DTEND;TZID=America/New_York:20260613T200000
DTSTAMP:20260423T121124
CREATED:20260115T175314Z
LAST-MODIFIED:20260323T152540Z
UID:3923-1781373600-1781380800@medfordbrew.com
SUMMARY:Tandoor & Curry
DESCRIPTION:Tandoor & Curry will be popping up from  1-6pm. Stop by for some tasty beer  and  Indian Food with a Modern Twist!
URL:https://medfordbrew.com/events/tandoor-curry/
CATEGORIES:Food Pop Up
ATTACH;FMTTYPE=image/png:https://medfordbrew.com/wp-content/uploads/2025/10/Company-Logo.png
END:VEVENT
BEGIN:VEVENT
DTSTART;TZID=America/New_York:20260619T170000
DTEND;TZID=America/New_York:20260619T200000
DTSTAMP:20260423T121124
CREATED:20250313T145801Z
LAST-MODIFIED:20260323T153810Z
UID:3257-1781888400-1781899200@medfordbrew.com
SUMMARY:Reunion BBQ
DESCRIPTION:The Best BBQ in The South End comes to Medford! \nWe’re excited to have  Reunion BBQ popping back up at Medford Brewing!!
URL:https://medfordbrew.com/events/reunion-bbq-pop-up-2/
LOCATION:Medford Brewing Company\, 30 Harvard Ave.\, Medford\, 02155\, United States
CATEGORIES:Food Pop Up
ATTACH;FMTTYPE=image/jpeg:https://medfordbrew.com/wp-content/uploads/2025/08/RBB.jpg
END:VEVENT
BEGIN:VEVENT
DTSTART;TZID=America/New_York:20260731T170000
DTEND;TZID=America/New_York:20260731T200000
DTSTAMP:20260423T121124
CREATED:20260204T181210Z
LAST-MODIFIED:20260407T135749Z
UID:3936-1785517200-1785528000@medfordbrew.com
SUMMARY:Babci's Pierogi
DESCRIPTION:Babci’s is back! Come enjoy their hand-made pierogi’s and some delicious brews!
URL:https://medfordbrew.com/events/babcis-pierogi/
LOCATION:Medford Brewing Company\, 30 Harvard Ave.\, Medford\, 02155\, United States
CATEGORIES:Food Pop Up
ATTACH;FMTTYPE=image/jpeg:https://medfordbrew.com/wp-content/uploads/2025/10/BP.jpg
END:VEVENT
BEGIN:VEVENT
DTSTART;TZID=America/New_York:20260828T170000
DTEND;TZID=America/New_York:20260828T200000
DTSTAMP:20260423T121124
CREATED:20260322T153132Z
LAST-MODIFIED:20260417T153631Z
UID:4045-1787936400-1787947200@medfordbrew.com
SUMMARY:Reunion BBQ
DESCRIPTION:The Best BBQ in The South End comes to Medford! We’re excited to have Reunion BBQ popping back up at Medford Brewing!!
URL:https://medfordbrew.com/events/reunion-bbq-2/
LOCATION:Medford Brewing Company\, 30 Harvard Ave.\, Medford\, 02155\, United States
CATEGORIES:Food Pop Up
ATTACH;FMTTYPE=image/jpeg:https://medfordbrew.com/wp-content/uploads/2025/08/RBB.jpg
END:VEVENT
END:VCALENDAR