BEGIN:VCALENDAR
VERSION:2.0
PRODID:-//Medford Brewing Company - ECPv6.15.20//NONSGML v1.0//EN
CALSCALE:GREGORIAN
METHOD:PUBLISH
X-WR-CALNAME:Medford Brewing Company
X-ORIGINAL-URL:https://medfordbrew.com
X-WR-CALDESC:Events for Medford Brewing Company
REFRESH-INTERVAL;VALUE=DURATION:PT1H
X-Robots-Tag:noindex
X-PUBLISHED-TTL:PT1H
BEGIN:VTIMEZONE
TZID:America/New_York
BEGIN:DAYLIGHT
TZOFFSETFROM:-0500
TZOFFSETTO:-0400
TZNAME:EDT
DTSTART:20250309T070000
END:DAYLIGHT
BEGIN:STANDARD
TZOFFSETFROM:-0400
TZOFFSETTO:-0500
TZNAME:EST
DTSTART:20251102T060000
END:STANDARD
BEGIN:DAYLIGHT
TZOFFSETFROM:-0500
TZOFFSETTO:-0400
TZNAME:EDT
DTSTART:20260308T070000
END:DAYLIGHT
BEGIN:STANDARD
TZOFFSETFROM:-0400
TZOFFSETTO:-0500
TZNAME:EST
DTSTART:20261101T060000
END:STANDARD
BEGIN:DAYLIGHT
TZOFFSETFROM:-0500
TZOFFSETTO:-0400
TZNAME:EDT
DTSTART:20270314T070000
END:DAYLIGHT
BEGIN:STANDARD
TZOFFSETFROM:-0400
TZOFFSETTO:-0500
TZNAME:EST
DTSTART:20271107T060000
END:STANDARD
END:VTIMEZONE
BEGIN:VEVENT
DTSTART;TZID=America/New_York:20260604T190000
DTEND;TZID=America/New_York:20260903T220000
DTSTAMP:20260423T150056
CREATED:20250529T170415Z
LAST-MODIFIED:20260323T153401Z
UID:3460-1780599600-1788472800@medfordbrew.com
SUMMARY:Singer Songwriter Night: Melodies on Tap
DESCRIPTION:Melodies on Tap is our monthly open Mic Night hosted by local musicians\, Zion Rodman & Christian Colegrove. 21+ \nMore info and sign ups on the event web site: HERE
URL:https://medfordbrew.com/events/singer-songwriter-night-melodies-on-tap/
LOCATION:Medford Brewing Company\, 30 Harvard Ave.\, Medford\, 02155\, United States
CATEGORIES:Open Mic Night
ATTACH;FMTTYPE=image/jpeg:https://medfordbrew.com/wp-content/uploads/2025/05/Melodies.jpg
END:VEVENT
BEGIN:VEVENT
DTSTART;TZID=America/New_York:20260614T110000
DTEND;TZID=America/New_York:20260614T120000
DTSTAMP:20260423T150056
CREATED:20250313T151539Z
LAST-MODIFIED:20260417T152406Z
UID:3281-1781434800-1781438400@medfordbrew.com
SUMMARY:Sunday Run
DESCRIPTION:NEW RUNNERS ALWAYS WELCOME –  JUST SHOW UP! \nALL LEVELS OF RUNNING/PACES ENCOURAGED \nThe Plan:  \n\nMeet at 11am in front of the brewery\nCoats and bags may be left inside\nChoose from 3\, 5\, or 7-mile loops (or do your own)\nTaproom opens at noon with cold beer waiting for you at the finish!\n\n*Sunday run is organized by the Kier Byrnes Freedom Runners
URL:https://medfordbrew.com/events/sunday-run-9/
LOCATION:Medford Brewing Company\, 30 Harvard Ave.\, Medford\, 02155\, United States
CATEGORIES:Sunday Run
ATTACH;FMTTYPE=image/jpeg:https://medfordbrew.com/wp-content/uploads/2023/09/run.jpg
END:VEVENT
END:VCALENDAR